Workbook
Name bz: 汇率数据!$C$1:$C$22

Sheet 学生减半指数
A1: 学生 | B1: 0.5
A2: 在职 | B2: 1

Sheet 补助计算表
A3: 币别 | B3: 伙食标准 | C3: 伙食标准*学生减半 | D3: 小于16天 伙食包干 | E3: 16天至31天 伙食包干 | F3: 伙食包干小计 | G3: 扣伙食补助 | H3: 实际伙食补助 | I3: 实际伙食补助.学生减半 | J3: 学生减半指数 | K3: 折人民币 | L3: 201301指数 | M3: 213-01数 | N3: 公杂标准 | O3: 公杂标准.学生减半 | P3: 小于16天 公杂包干 | Q3: 16天至31天 公杂包干 | R3: 公杂包干 小计 | S3: 扣公杂补助 | T3: 实际公杂补助 | U3: 实际公杂补助.学费减半 | V3: 学生减半指数 | W3: 折人民币 | X3: 201301指数 | Y3: 213-01数 | Z3: 长期补助标准
A5: =VLOOKUP(#REF!,标准!A:D,2,FALSE) -> #REF! | B5: =VLOOKUP(#REF!,标准!A:D,3,FALSE) -> #REF! | C5: =B5*J5 -> #REF! | D5: =B5*#REF!*#REF! -> #REF! | E5: =补助计算表!B5*0.8*#REF!*#REF! -> #REF! | F5: =D5+E5 -> #REF! | G5: =补助计算表!B5*0.2*#REF!+B5*0.4*#REF!+B5*0.4*#REF! -> #REF! | H5: =F5-G5 -> #REF! | I5: =H5*J5 -> #REF! | J5: =VLOOKUP(#REF!,学生减半指数!A:B,2,FALSE) -> #REF! | K5: =H5*#REF!*J5 -> #REF! | L5: =VLOOKUP(#REF!,标准!A280:B281,2,FALSE) -> #REF! | M5: =K5*L5 -> #REF! | N5: =VLOOKUP(#REF!,标准!A:D,4,FALSE) -> #REF! | O5: =N5*J5 -> #REF! | P5: =N5*#REF!*#REF! -> #REF! | Q5: =N5*0.8*#REF!*#REF! -> #REF! | R5: =P5+Q5 -> #REF! | S5: =补助计算表!N5*#REF!*#REF! -> #REF! | T5: =R5-S5 -> #REF! | U5: =T5*V5 -> #REF! | V5: =VLOOKUP(#REF!,学生减半指数!A:B,2,FALSE) -> #REF! | W5: =T5*#REF!*V5 -> #REF! | X5: =VLOOKUP(#REF!,标准!A280:B281,2,FALSE) -> #REF! | Y5: =W5*X5 -> #REF!
A6: =IF(#REF!="","0",VLOOKUP(#REF!,标准!A:D,2,FALSE)) -> #REF! | B6: =VLOOKUP(#REF!,标准!A:D,3,FALSE) -> #REF! | C6: =B6*J6 -> #REF! | D6: =B6*#REF!*#REF! -> #REF! | E6: =补助计算表!B6*0.8*#REF!*#REF! -> #REF! | F6: =D6+E6 -> #REF! | G6: =补助计算表!B6*0.2*#REF!+B6*0.4*#REF!+B6*0.4*#REF! -> #REF! | H6: =F6-G6 -> #REF! | I6: =H6*J6 -> #REF! | J6: =VLOOKUP(#REF!,学生减半指数!A:B,2,FALSE) -> #REF! | K6: =H6*#REF!*J6 -> #REF! | L6: =VLOOKUP(#REF!,标准!A280:B281,2,FALSE) -> #REF! | M6: =K6*L6 -> #REF! | N6: =VLOOKUP(#REF!,标准!A:D,4,FALSE) -> #REF! | O6: =N6*J6 -> #REF! | P6: =N6*#REF!*#REF! -> #REF! | Q6: =N6*0.8*#REF!*#REF! -> #REF! | R6: =P6+Q6 -> #REF! | S6: =补助计算表!N6*#REF!*#REF! -> #REF! | T6: =R6-S6 -> #REF! | U6: =T6*V6 -> #REF! | V6: =VLOOKUP(#REF!,学生减半指数!A:B,2,FALSE) -> #REF! | W6: =T6*#REF!*V6 -> #REF! | X6: =VLOOKUP(#REF!,标准!A280:B281,2,FALSE) -> #REF! | Y6: =W6*X6 -> #REF!
A7: =IF(#REF!="","0",VLOOKUP(#REF!,标准!A:D,2,FALSE)) -> #REF! | B7: =VLOOKUP(#REF!,标准!A:D,3,FALSE) -> #REF! | C7: =B7*J7 -> #REF! | D7: =B7*#REF!*#REF! -> #REF! | E7: =补助计算表!B7*0.8*#REF!*#REF! -> #REF! | F7: =D7+E7 -> #REF! | G7: =补助计算表!B7*0.2*#REF!+B7*0.4*#REF!+B7*0.4*#REF! -> #REF! | H7: =F7-G7 -> #REF! | I7: =H7*J7 -> #REF! | J7: =VLOOKUP(#REF!,学生减半指数!A:B,2,FALSE) -> #REF! | K7: =H7*#REF!*J7 -> #REF! | L7: =VLOOKUP(#REF!,标准!A280:B281,2,FALSE) -> #REF! | M7: =K7*L7 -> #REF! | N7: =VLOOKUP(#REF!,标准!A:D,4,FALSE) -> #REF! | O7: =N7*J7 -> #REF! | P7: =N7*#REF!*#REF! -> #REF! | Q7: =N7*0.8*#REF!*#REF! -> #REF! | R7: =P7+Q7 -> #REF! | S7: =补助计算表!N7*#REF!*#REF! -> #REF! | T7: =R7-S7 -> #REF! | U7: =T7*V7 -> #REF! | V7: =VLOOKUP(#REF!,学生减半指数!A:B,2,FALSE) -> #REF! | W7: =T7*#REF!*V7 -> #REF! | X7: =VLOOKUP(#REF!,标准!A280:B281,2,FALSE) -> #REF! | Y7: =W7*X7 -> #REF!
A8: =IF(#REF!="","0",VLOOKUP(#REF!,标准!A:D,2,FALSE)) -> #REF! | B8: =VLOOKUP(#REF!,标准!A:D,3,FALSE) -> #REF! | C8: =B8*J8 -> #REF! | D8: =B8*#REF!*#REF! -> #REF! | E8: =补助计算表!B8*0.8*#REF!*#REF! -> #REF! | F8: =D8+E8 -> #REF! | G8: =补助计算表!B8*0.2*#REF!+B8*0.4*#REF!+B8*0.4*#REF! -> #REF! | H8: =F8-G8 -> #REF! | I8: =H8*J8 -> #REF! | J8: =VLOOKUP(#REF!,学生减半指数!A:B,2,FALSE) -> #REF! | K8: =H8*#REF!*J8 -> #REF! | L8: =VLOOKUP(#REF!,标准!A280:B281,2,FALSE) -> #REF! | M8: =K8*L8 -> #REF! | N8: =VLOOKUP(#REF!,标准!A:D,4,FALSE) -> #REF! | O8: =N8*J8 -> #REF! | P8: =N8*#REF!*#REF! -> #REF! | Q8: =N8*0.8*#REF!*#REF! -> #REF! | R8: =P8+Q8 -> #REF! | S8: =补助计算表!N8*#REF!*#REF! -> #REF! | T8: =R8-S8 -> #REF! | U8: =T8*V8 -> #REF! | V8: =VLOOKUP(#REF!,学生减半指数!A:B,2,FALSE) -> #REF! | W8: =T8*#REF!*V8 -> #REF! | X8: =VLOOKUP(#REF!,标准!A280:B281,2,FALSE) -> #REF! | Y8: =W8*X8 -> #REF!
A9: =IF(#REF!="","0",VLOOKUP(#REF!,标准!A:D,2,FALSE)) -> #REF! | B9: =VLOOKUP(#REF!,标准!A:D,3,FALSE) -> #REF! | C9: =B9*J9 -> #REF! | D9: =B9*#REF!*#REF! -> #REF! | E9: =补助计算表!B9*0.8*#REF!*#REF! -> #REF! | F9: =D9+E9 -> #REF! | G9: =补助计算表!B9*0.2*#REF!+B9*0.4*#REF!+B9*0.4*#REF! -> #REF! | H9: =F9-G9 -> #REF! | I9: =H9*J9 -> #REF! | J9: =VLOOKUP(#REF!,学生减半指数!A:B,2,FALSE) -> #REF! | K9: =H9*#REF!*J9 -> #REF! | L9: =VLOOKUP(#REF!,标准!A280:B281,2,FALSE) -> #REF! | M9: =K9*L9 -> #REF! | N9: =VLOOKUP(#REF!,标准!A:D,4,FALSE) -> #REF! | O9: =N9*J9 -> #REF! | P9: =N9*#REF!*#REF! -> #REF! | Q9: =N9*0.8*#REF!*#REF! -> #REF! | R9: =P9+Q9 -> #REF! | S9: =补助计算表!N9*#REF!*#REF! -> #REF! | T9: =R9-S9 -> #REF! | U9: =T9*V9 -> #REF! | V9: =VLOOKUP(#REF!,学生减半指数!A:B,2,FALSE) -> #REF! | W9: =T9*#REF!*V9 -> #REF! | X9: =VLOOKUP(#REF!,标准!A280:B281,2,FALSE) -> #REF! | Y9: =W9*X9 -> #REF!
A10: 合计 | B10: 伙食补助合计 | K10: =SUM(K5:K9) -> #REF! | M10: =SUM(M5:M9) -> #REF! | N10: 公杂补助合计 | W10: =SUM(W5:W9) -> #REF! | Y10: =SUM(Y5:Y9) -> #REF!
T12: 2013合计 | U12: =Y10+M10 -> #REF!

Sheet 标准
A2: 国家和地区 | B2: 币种 | C2: 伙食费 （每人每天） | D2: 公杂费 （每人每天）
A3: —— | B3: —— | C3: 0 | D3: 0
A4: 无 | B4: 无 | C4: 0 | D4: 0
A5: 亚洲
A6: 蒙古 | B6: 美元 | C6: 50 | D6: 35
A7: 朝鲜 | B7: 美元 | C7: 40 | D7: 30
A8: 韩国 | B8: 美元 | C8: 70 | D8: 35
B9: 美元 | C9: 70 | D9: 35
B10: 美元 | C10: 70 | D10: 35
A11: 日本 | B11: 日元 | C11: 10000 | D11: 5000
B12: 日元 | C12: 10000 | D12: 5000
B13: 日元 | C13: 10000 | D13: 5000
B14: 日元 | C14: 10000 | D14: 5000
A15: 缅甸 | B15: 美元 | C15: 50 | D15: 35
A16: 巴基斯坦 | B16: 美元 | C16: 30 | D16: 30
B17: 美元 | C17: 30 | D17: 30
B18: 美元 | C18: 30 | D18: 30
A19: 斯里兰卡 | B19: 美元 | C19: 40 | D19: 30
A20: 马尔代夫 | B20: 美元 | C20: 50 | D20: 30
A21: 孟加拉 | B21: 美元 | C21: 50 | D21: 40
A22: 伊拉克 | B22: 美元 | C22: 50 | D22: 40
A23: 阿拉伯联合酋长国 | B23: 美元 | C23: 50 | D23: 40
A24: 也门 | B24: 美元 | C24: 50 | D24: 35
B25: 美元 | C25: 50 | D25: 35
B26: 美元 | C26: 50 | D26: 35
A27: 阿曼 | B27: 美元 | C27: 50 | D27: 40
A28: 伊朗 | B28: 美元 | C28: 50 | D28: 40
A29: 科威特 | B29: 美元 | C29: 70 | D29: 40
A30: 沙特阿拉伯 | B30: 美元 | C30: 70 | D30: 40
B31: 美元 | C31: 70 | D31: 40
B32: 美元 | C32: 70 | D32: 40
A33: 巴林 | B33: 美元 | C33: 55 | D33: 40
A34: 以色列 | B34: 美元 | C34: 70 | D34: 40
A35: 巴勒斯坦 | B35: 美元 | C35: 70 | D35: 40
A36: 文莱 | B36: 美元 | C36: 40 | D36: 35
A37: 印度 | B37: 美元 | C37: 50 | D37: 35
B38: 美元 | C38: 50 | D38: 35
B39: 美元 | C39: 50 | D39: 35
A40: 不丹 | B40: 美元 | C40: 50 | D40: 35
A41: 越南 | B41: 美元 | C41: 40 | D41: 30
...

Sheet 汇率数据
B1: 中行折算价 | C1: 阿联酋迪拉姆
A2: 170101阿联酋迪拉姆 | B2: 1.889 | C2: 澳大利亚元
A3: 170101澳大利亚元 | B3: 5.0157 | C3: 巴西里亚尔
A4: 170101巴西里亚尔 | B4: 2.1354 | C4: 加拿大元
A5: 170101加拿大元 | B5: 5.1406 | C5: 瑞士法郎
A6: 170101瑞士法郎 | B6: 6.7989 | C6: 丹麦克朗
A7: 170101丹麦克朗 | B7: 0.9832 | C7: 欧元
A8: 170101欧元 | B8: 7.3068 | C8: 英镑
A9: 170101英镑 | B9: 8.5094 | C9: 港币
A10: 170101港币 | B10: 0.8945 | C10: 印尼卢比
A11: 170101印尼卢比 | B11: 0.000518 | C11: 印度卢比
A12: 170101印度卢比 | B12: 0.102295 | C12: 日元
A13: 170101日元 | B13: 0.059591 | C13: 韩国元
... A27: 170101美元 | B27: 6.937 | C27: 南非兰特
A28: 170101南非兰特 | B28: 0.5083
A29: 170102阿联酋迪拉姆 | B29: 1.889
A30: 170102澳大利亚元 | B30: 5.0157
A31: 170102巴西里亚尔 | B31: 2.1354
A32: 170102加拿大元 | B32: 5.1406
A33: 170102瑞士法郎 | B33: 6.7989
A34: 170102丹麦克朗 | B34: 0.9832
A35: 170102欧元 | B35: 7.3068
A36: 170102英镑 | B36: 8.5094
A37: 170102港币 | B37: 0.8945
A38: 170102印尼卢比 | B38: 0.000518
A39: 170102印度卢比 | B39: 0.102295
... A19928: 190108南非兰特 | B19928: 0.493

Sheet 长期过渡
A1: 币别 | B1: 标准 | C1: 补助数 | D1: 折人民币
A2: =VLOOKUP(#REF!,长期补助取数!A:C,2,FALSE) -> #REF! | B2: =VLOOKUP(#REF!,长期补助取数!A:C,3,FALSE) -> #REF! | C2: =B2/30*#REF!*#REF! -> #REF! | D2: =C2*#REF! -> #REF!
A3: =VLOOKUP(#REF!,长期补助取数!A:C,2,FALSE) -> #REF! | B3: =VLOOKUP(#REF!,长期补助取数!A:C,3,FALSE) -> #REF! | C3: =B3/30*#REF!*#REF! -> #REF! | D3: =C3*#REF! -> #REF!
A4: =VLOOKUP(#REF!,长期补助取数!A:C,2,FALSE) -> #REF! | B4: =VLOOKUP(#REF!,长期补助取数!A:C,3,FALSE) -> #REF! | C4: =B4/30*#REF!*#REF! -> #REF! | D4: =C4*#REF! -> #REF!
A5: =VLOOKUP(#REF!,长期补助取数!A:C,2,FALSE) -> #REF! | B5: =VLOOKUP(#REF!,长期补助取数!A:C,3,FALSE) -> #REF! | C5: =B5/30*#REF!*#REF! -> #REF! | D5: =C5*#REF! -> #REF!
A6: =VLOOKUP(#REF!,长期补助取数!A:C,2,FALSE) -> #REF! | B6: =VLOOKUP(#REF!,长期补助取数!A:C,3,FALSE) -> #REF! | C6: =B6/30*#REF!*#REF! -> #REF! | D6: =C6*#REF! -> #REF!
C7: 合计 | D7: =SUM(D2:D6) -> #REF!

Sheet 长期补助取数
A1: 国家 | B1: 币别 | C1: 标准
A2: 美国一类地区高级职称 | B2: 美元 | C2: 2000
A3: 美国二类地区高级职称 | B3: 美元 | C3: 2000
A4: 美国三类地区高级职称 | B4: 美元 | C4: 2000
A5: 加拿大高级职称 | B5: 加拿大元 | C5: 2600
A6: 澳大利亚高级职称 | B6: 澳大利亚元 | C6: 2100
A7: 新西兰高级职称 | B7: 新西兰元 | C7: 2200
A8: 美洲、大洋洲其他国家（地区）高级职称 | B8: 美元 | C8: 1100
A9: 俄罗斯高级职称 | B9: 美元 | C9: 1400
A10: 白俄罗斯高级职称 | B10: 美元 | C10: 1150
A11: 乌克兰高级职称 | B11: 美元 | C11: 1150
A12: 其他独联体国家高级职称 | B12: 美元 | C12: 1100
A13: 德国高级职称 | B13: 欧元 | C13: 1800
... A91: 中国香港普通职称 | B91: 港币 | C91: 12000

Sheet 做账表
F1: 摘要 | G1: 借方部门 | H1: 借方科目 | K1: 借方项目 | L1: 借方题目 | M1: 贷方部门 | N1: 贷方科目 | O1: 贷方项目 | P1: 贷方题目 | Q1: 金额 | R1: 暂付款号
A2: =#REF! -> #REF! | B2: 赴 | C2: =#REF! -> #REF! | D2: 等 | E2: 国际机票 | F2: =CONCATENATE(A2,B2,C2,D2,E2) -> #REF! | G2: =#REF! -> #REF! | H2: 5___._ | I2: .3021206 | J2: =CONCATENATE(H2,I2) -> 5___._.3021206 | K2: =CONCATENATE(I2,J2) -> .30212065___._.3021206 | L2: =#REF! -> #REF! | Q2: =#REF! -> #REF!
A3: =A2 -> #REF! | B3: 赴 | C3: =C2 -> #REF! | D3: 等 | E3: 费用1 | F3: =CONCATENATE(A3,B3,C3,D3,E3) -> #REF! | G3: =#REF! -> #REF! | H3: =H2 -> 5___._ | I3: .3021206 | J3: =CONCATENATE(H3,I3) -> 5___._.3021206 | K3: =CONCATENATE(I3,J3) -> .30212065___._.3021206 | L3: =#REF! -> #REF! | Q3: =#REF! -> #REF!
A4: =A3 -> #REF! | B4: =B3 -> 赴 | C4: =C3 -> #REF! | D4: =D3 -> 等 | E4: 费用2 | F4: =CONCATENATE(A4,B4,C4,D4,E4) -> #REF! | G4: =#REF! -> #REF! | H4: =H3 -> 5___._ | I4: .3021207 | J4: =CONCATENATE(H4,I4) -> 5___._.3021207 | K4: =CONCATENATE(I4,J4) -> .30212075___._.3021207 | L4: =L3 -> #REF! | Q4: =补助计算表!K10 -> #REF!
A5: =A4 -> #REF! | B5: =B4 -> 赴 | C5: =C4 -> #REF! | D5: =D4 -> 等 | E5: 费用3 | F5: =CONCATENATE(A5,B5,C5,D5,E5) -> #REF! | G5: =#REF! -> #REF! | H5: =H3 -> 5___._ | I5: .3021208 | J5: =CONCATENATE(H5,I5) -> 5___._.3021208 | K5: =CONCATENATE(I5,J5) -> .30212085___._.3021208 | L5: =L3 -> #REF! | Q5: =补助计算表!W10 -> #REF!
A6: =A5 -> #REF! | B6: =B5 -> 赴 | C6: =C5 -> #REF! | D6: =D5 -> 等 | E6: 费用 | F6: =CONCATENATE(A6,B6,C6,D6,E6) -> #REF! | K6: =CONCATENATE(I6,J6) | M6: 00000 | N6: 2201 | O6: 03 | Q6: =补助计算表!U12 -> #REF!
A7: =A6 -> #REF! | B7: =B6 -> 赴 | C7: =C6 -> #REF! | D7: =D6 -> 等 | E7: 费用 | F7: =CONCATENATE(A7,B7,C7,D7,E7) -> #REF! | G7: 00000 | H7: 2201 | K7: 03 | Q7: =Q6 -> #REF!
A8: =A7 -> #REF! | B8: =B7 -> 赴 | C8: =C7 -> #REF! | D8: =D7 -> 等 | E8: 注册费等 | F8: =CONCATENATE(A8,B8,C8,D8,E8) -> #REF! | G8: =#REF! -> #REF! | H8: =H3 -> 5___._ | I8: .3029911 | J8: =CONCATENATE(H8,I8) -> 5___._.3029911 | K8: =CONCATENATE(I8,J8) -> .30299115___._.3029911 | L8: =L3 -> #REF! | Q8: =#REF! -> #REF!
A9: =#REF! -> #REF! | B9: =B8 -> 赴 | C9: =C8 -> #REF! | D9: =D8 -> 等 | E9: 费用 | F9: =CONCATENATE(A9,B9,C9,D9,E9) -> #REF! | M9: 00000 | N9: 1002 | O9: 03 | Q9: =SUM(Q2:Q5,Q8:Q8) -> #REF!

Sheet 制凭单
G1: =做账表!G3 -> #REF! | H1: =做账表!H3 -> 5___._ | I1: =做账表!K3 -> .30212065___._.3021206 | J1: =做账表!L3 -> #REF! | O1: =做账表!Q3 -> #REF! | V1: =做账表!F3 -> #REF!
G2: =做账表!G4 -> #REF! | H2: =做账表!H4 -> 5___._ | I2: =做账表!K4 -> .30212075___._.3021207 | J2: =做账表!L4 -> #REF! | O2: =做账表!Q4 -> #REF! | V2: =做账表!F4 -> #REF!
G3: =做账表!G5 -> #REF! | H3: =做账表!H5 -> 5___._ | I3: =做账表!K5 -> .30212085___._.3021208 | J3: =做账表!L5 -> #REF! | O3: =做账表!Q5 -> #REF! | V3: =做账表!F5 -> #REF!
K4: =做账表!M6 -> 00000 | L4: =做账表!N6 -> 2201 | M4: =做账表!O6 -> 03 | O4: =做账表!Q6 -> #REF! | V4: =做账表!F6 -> #REF!
G5: =做账表!G7 -> 00000 | H5: =做账表!H7 -> 2201 | I5: =做账表!K7 -> 03 | O5: =做账表!Q7 -> #REF! | V5: =做账表!F7 -> #REF!
G6: =做账表!G8 -> #REF! | H6: =做账表!H8 -> 5___._ | I6: =做账表!K8 -> .30299115___._.3029911 | J6: =做账表!L8 -> #REF! | O6: =做账表!Q8 -> #REF! | V6: =做账表!F8 -> #REF!
G7: =做账表!#REF! -> #REF! | H7: =做账表!#REF! -> #REF! | I7: =做账表!#REF! -> #REF! | J7: =做账表!#REF! -> #REF! | O7: =做账表!#REF! -> #REF! | V7: =做账表!#REF! -> #REF!
K8: =做账表!M9 -> 00000 | L8: =做账表!N9 -> 1002 | M8: =做账表!O9 -> 03 | O8: =做账表!Q9 -> #REF! | V8: =做账表!F9 -> #REF!

Sheet 空表 
A1: 北京大学因公临时出国（境）核销表格
A3: 出国人员： | E3: 所属院系： | K3: 邀请方提供宴请次数：
A4: 包干 | B4: 出访国家或地区 | C4: 人数 | D4: 出访日期 | E4: 出访天数 （不超过批件天数） | G4: 包干 币种 | H4: 折人民币汇率 | I4: 伙食标准 | J4: 伙食包干（外币） | K4: 折人民币（元） | L4: 公杂 标准 | M4: 公杂包干 （外币） | N4: 折人民币（元） | O4: 包干合计 (元)
H10: 伙食包干合计（元） | L10: 公杂包干合计（元）
A12: 其他 | B12: 币种 | C12: 折人民币汇率 | D12: 住宿费 | E12: 城市间交通 | G12: 国际旅费 | I12: 其他费用 | M12: 小计 | N12: 折人民币（元） | O12: 其他合计（元）
B18: 人民币（元） | I18: 签证 | M18: 人民币小计（元）
I19: 保险
I20: 其他
A21: 备注 | B21: 其他费用包括：签证费、保险费（意外伤害险）、防疫费（非洲地区）、国际会议注册费等 | J21: 预借金额（元） | M21: 报销总计（元） | O21: 实报（元）
B24: 经费来源（会计科目）： | H24: 出国人员签字： | N24: 财务审核：
B25: 主管部门公章： | N25: 填表日期：
B26: 主管部门负责人： | N26: TEL:62765793
B27: 课题负责人：

Sheet 已盖章打印
C3: =#REF! -> #REF! | H3: =VLOOKUP(#REF!,标准!A:B,2,FALSE) -> #REF!
B5: =#REF! -> #REF! | C5: =#REF! -> #REF! | D5: =#REF! -> #REF! | E5: =#REF! -> #REF! | G5: =#REF! -> #REF! | H5: =#REF! -> #REF! | I5: =补助计算表!B5 -> #REF! | J5: =补助计算表!G5 -> #REF! | K5: =补助计算表!I5 -> #REF! | L5: =补助计算表!L5 -> #REF! | M5: =补助计算表!M5 -> #REF! | N5: =补助计算表!S5 -> #REF! | O5: =J10+N10 -> 0
B6: =IF(#REF!="","——",#REF!) -> #REF! | C6: =IF(#REF!="——","——",#REF!) -> #REF! | D6: =IF(#REF!="——","——",#REF!) -> #REF! | E6: =IF(#REF!="——","——",#REF!) -> #REF! | G6: =IF(#REF!="","——",#REF!) -> #REF! | H6: =IF(#REF!="——","——",#REF!) -> #REF! | I6: =IF(#REF!="——","——",补助计算表!B6) -> #REF! | J6: =IF(#REF!="——","——",补助计算表!G6) -> #REF! | K6: =IF(#REF!="——","——",补助计算表!I6) -> #REF! | L6: =IF(#REF!="——","——",补助计算表!L6) -> #REF! | M6: =IF(#REF!="——","——",补助计算表!M6) -> #REF! | N6: =IF(#REF!="——","——",补助计算表!S6) -> #REF!
B7: =IF(#REF!="","——",#REF!) -> #REF! | C7: =IF(#REF!="——","——",#REF!) -> #REF! | D7: =IF(#REF!="——","——",#REF!) -> #REF! | E7: =IF(#REF!="——","——",#REF!) -> #REF! | G7: =IF(#REF!="","——",#REF!) -> #REF! | H7: =IF(#REF!="——","——",#REF!) -> #REF! | I7: =IF(#REF!="——","——",补助计算表!B7) -> #REF! | J7: =IF(#REF!="——","——",补助计算表!G7) -> #REF! | K7: =IF(#REF!="——","——",补助计算表!I7) -> #REF! | L7: =IF(#REF!="——","——",补助计算表!L7) -> #REF! | M7: =IF(#REF!="——","——",补助计算表!M7) -> #REF! | N7: =IF(#REF!="——","——",补助计算表!S7) -> #REF!
B8: =IF(#REF!="","——",#REF!) -> #REF! | C8: =IF(#REF!="——","——",#REF!) -> #REF! | D8: =IF(#REF!="——","——",#REF!) -> #REF! | E8: =IF(#REF!="——","——",#REF!) -> #REF! | G8: =IF(#REF!="","——",#REF!) -> #REF! | H8: =IF(#REF!="——","——",#REF!) -> #REF! | I8: =IF(#REF!="——","——",补助计算表!B8) -> #REF! | J8: =IF(#REF!="——","——",补助计算表!G8) -> #REF! | K8: =IF(#REF!="——","——",补助计算表!I8) -> #REF! | L8: =IF(#REF!="——","——",补助计算表!L8) -> #REF! | M8: =IF(#REF!="——","——",补助计算表!M8) -> #REF! | N8: =IF(#REF!="——","——",补助计算表!S8) -> #REF!
B9: =IF(#REF!="","——",#REF!) -> #REF! | C9: =IF(#REF!="——","——",#REF!) -> #REF! | D9: =IF(#REF!="——","——",#REF!) -> #REF! | E9: =IF(#REF!="——","——",#REF!) -> #REF! | G9: =IF(#REF!="","——",#REF!) -> #REF! | H9: =IF(#REF!="——","——",#REF!) -> #REF! | I9: =IF(#REF!="——","——",补助计算表!B9) -> #REF! | J9: =IF(#REF!="——","——",补助计算表!G9) -> #REF! | K9: =IF(#REF!="——","——",补助计算表!I9) -> #REF! | L9: =IF(#REF!="——","——",补助计算表!L9) -> #REF! | M9: =IF(#REF!="——","——",补助计算表!M9) -> #REF! | N9: =IF(#REF!="——","——",补助计算表!S9) -> #REF!
J10: =补助计算表!I10 -> 0 | N10: =补助计算表!S10 -> 0
B13: =IF(#REF!=0,"——",#REF!) -> #REF! | C13: =IF(#REF!=0,"——",#REF!) -> #REF! | D13: =IF(#REF!=0,"——",#REF!) -> #REF! | E13: =IF(#REF!=0,"——",#REF!) -> #REF! | G13: =IF(#REF!=0,"——",#REF!) -> #REF! | I13: =IF(#REF!=0,"——",#REF!) -> #REF! | M13: =IF(#REF!=0,"——",#REF!) -> #REF! | N13: =IF(#REF!=0,"——",C13*M13) -> #REF! | O13: =IF(#REF!=0,"——",#REF!) -> #REF!
B14: =IF(#REF!=0,"——",#REF!) -> #REF! | C14: =IF(#REF!=0,"——",#REF!) -> #REF! | D14: =IF(#REF!=0,"——",#REF!) -> #REF! | E14: =IF(#REF!=0,"——",#REF!) -> #REF! | G14: =IF(#REF!=0,"——",#REF!) -> #REF! | I14: =IF(#REF!=0,"——",#REF!) -> #REF! | M14: =IF(#REF!=0,"——",#REF!) -> #REF! | N14: =IF(#REF!=0,"——",C14*M14) -> #REF!
B15: =IF(#REF!=0,"——",#REF!) -> #REF! | C15: =IF(#REF!=0,"——",#REF!) -> #REF! | D15: =IF(#REF!=0,"——",#REF!) -> #REF! | E15: =IF(#REF!=0,"——",#REF!) -> #REF! | G15: =IF(#REF!=0,"——",#REF!) -> #REF! | I15: =IF(#REF!=0,"——",#REF!) -> #REF! | M15: =IF(#REF!=0,"——",#REF!) -> #REF! | N15: =IF(#REF!=0,"——",C15*M15) -> #REF!
B16: =IF(#REF!=0,"——",#REF!) -> #REF! | C16: =IF(#REF!=0,"——",#REF!) -> #REF! | D16: =IF(#REF!=0,"——",#REF!) -> #REF! | E16: =IF(#REF!=0,"——",#REF!) -> #REF! | G16: =IF(#REF!=0,"——",#REF!) -> #REF! | I16: =IF(#REF!=0,"——",#REF!) -> #REF! | M16: =IF(#REF!=0,"——",#REF!) -> #REF! | N16: =IF(#REF!=0,"——",C16*M16) -> #REF!
B17: =IF(#REF!=0,"——",#REF!) -> #REF! | C17: =IF(#REF!=0,"——",#REF!) -> #REF! | D17: =IF(#REF!=0,"——",#REF!) -> #REF! | E17: =IF(#REF!=0,"——",#REF!) -> #REF! | G17: =IF(#REF!=0,"——",#REF!) -> #REF! | I17: =IF(#REF!=0,"——",#REF!) -> #REF! | M17: =IF(#REF!=0,"——",#REF!) -> #REF! | N17: =IF(#REF!=0,"——",C17*M17) -> #REF!
D18: =IF(#REF!=0,"——",#REF!) -> #REF! | E18: =IF(#REF!=0,"——",#REF!) -> #REF! | G18: =IF(#REF!=0,"——",#REF!) -> #REF! | J18: =IF(#REF!=0,"——",#REF!) -> #REF! | N18: =IF(#REF!=0,"——",#REF!) -> #REF!
J19: =IF(#REF!=0,"——",#REF!) -> #REF!
J20: =IF(#REF!=0,"——",#REF!) -> #REF!
K21: =#REF! -> #REF! | N21: =SUM(SUM(O13,O5)) -> #REF! | P21: =N21-K21 -> #REF!

Sheet 8调至8
A1: 序号 | B1: 摘要 | C1: 项目代码 | D1: 科目 | E1: 借方金额 | F1: 贷方金额 | G1: 车牌号 | H1: 收支类型 | I1: 资金来源
A2: 001 | B2: 调账1710#123张三报办公用品 | D2: 3501 | E2: 376
A3: 002 | B3: 调账1710#123张三报办公用品 | D3: 3501 | F3: 376
A4: 003 | B4: 调账1710#123张三报办公用品 | C4: 82049xxxxx | D4: 3001.11.2.3.3020101 | E4: 188 | H4: 318 | I4: KS000001
A5: 004 | B5: 调账1710#123张三报办公用品 | C5: 82009xxxxx | D5: 3001.11.2.3.3020101 | F5: 188 | H5: 318 | I5: KS000001
A6: 005 | B6: 调账1710#123张三报材料费 | D6: 3501 | E6: 912
A7: 006 | B7: 调账1710#123张三报材料费 | D7: 3501 | F7: 912
A8: 007 | B8: 调账1710#123张三报材料费 | C8: 82049xxxxx | D8: 3001.11.2.3.3021801 | E8: 456 | H8: 318 | I8: KS000001
A9: 008 | B9: 调账1710#123张三报材料费 | C9: 82009xxxxx | D9: 3001.11.2.3.3021801 | F9: 456 | H9: 318 | I9: KS000001
A15: 注：1.请将调账内容录入在有色字体的栏内，格式见上表模板，请保留此表原格式，不要改动和删除任何栏格； 2.3001借方表示该项目号支出调增体现拟调入项目号信息，3001贷方表示该项目号支出调减体现拟调出项目号信息； 3.一个3001对应一对3501的过渡； 4.收支类型：8-318（非财政拨款结转/年初余额调整），6-344（非财政拨款结余/年初余额调整/系级），24011-201（事业支出/教育事业支出）； 5.资金来源：8-KS000001（科研事业收入），63040/63046-DZ000001（系级经费/支出回收），63099-DS000001（系级经费/事业收入），24011-GL000001（管理费)； 6.导入财务系统前请将账务无关行列全部删除再行导入。

Sheet 8调至6
A1: 序号 | B1: 摘要 | C1: 项目代码 | D1: 科目 | E1: 借方金额 | F1: 贷方金额 | G1: 车牌号 | H1: 收支类型 | I1: 资金来源
A2: 001 | B2: 调账1710#123张三报办公用品 | D2: 3501 | E2: 376
A3: 002 | B3: 调账1710#123张三报办公用品 | D3: 3501 | F3: 376
A4: 003 | B4: 调账1710#123张三报办公用品 | D4: 3001.11.1.2.2.3020101 | E4: 188 | H4: 344 | I4: DZ000001
A5: 004 | B5: 调账1710#123张三报办公用品 | C5: 82048xxxxx | D5: 3001.11.2.3.3020101 | F5: 188 | H5: 318 | I5: KS000001
A6: 005 | B6: 调账1710#123张三报办公用品 | D6: 9001 | F6: 188
A7: 006 | B7: 调账1710#123张三报办公用品 | C7: 63046xxxxx | D7: 9002.2 | E7: 188
A8: 007 | B8: 调账1710#123张三报材料费 | D8: 3501 | E8: 912
A9: 008 | B9: 调账1710#123张三报材料费 | D9: 3501 | F9: 912
A10: 009 | B10: 调账1710#123张三报材料费 | D10: 3001.11.1.2.2.3020101 | E10: 456 | H10: 344 | I10: DZ000001
A11: 010 | B11: 调账1710#123张三报材料费 | C11: 82048xxxxx | D11: 3001.11.2.3.3020101 | F11: 456 | H11: 318 | I11: KS000001
A12: 011 | B12: 调账1710#123张三报材料费 | D12: 9001 | F12: 456
A13: 012 | B13: 调账1710#123张三报材料费 | C13: 63046xxxxx | D13: 9002.2 | E13: 456
A19: 注：1.请将调账内容录入在有色字体的栏内，格式见上表模板，请保留此表原格式，不要改动和删除任何栏格； 2.3001借方表示该项目号支出调增体现拟调入项目号信息，3001贷方表示该项目号支出调减体现拟调出项目号信息； 3.一个3001对应一对3501的过渡； 4.收支类型：8-318（非财政拨款结转/年初余额调整），6-344（非财政拨款结余/年初余额调整/系级），24011-201（事业支出/教育事业支出）； 5.资金来源：8-KS000001（科研事业收入），63040/63046-DZ000001（系级经费/支出回收），63099-DS000001（系级经费/事业收入），24011-GL000001（管理费)； 6.导入财务系统前请将账务无关行列全部删除再行导入。

Sheet 8调至24011
A1: 序号 | B1: 摘要 | C1: 项目代码 | D1: 科目 | E1: 借方金额 | F1: 贷方金额 | G1: 车牌号 | H1: 收支类型 | I1: 资金来源
A2: 001 | B2: 调账1810#123张三报材料费 | D2: 3501 | E2: 188
A3: 002 | B3: 调账1810#123张三报材料费 | D3: 3501 | F3: 188
A4: 003 | B4: 调账1810#123张三报材料费 | C4: 24011xxxxx | D4: 2401.1.3.3021801 | E4: 188 | H4: 201 | I4: GL000001
A5: 004 | B5: 调账1810#123张三报材料费 | C5: 82009xxxxx | D5: 3001.11.2.3.3021801 | F5: 188 | H5: 318 | I5: KS000001
A6: 005 | B6: 调账1910#123张三报电话费 | D6: 3501 | E6: 288
A7: 006 | B7: 调账1910#123张三报电话费 | D7: 3501 | F7: 288
A8: 007 | B8: 调账1910#123张三报电话费 | C8: 24011xxxxx | D8: 2401.1.3.3020702 | E8: 288 | H8: 201 | I8: GL000001
A9: 008 | B9: 调账1910#123张三报电话费 | C9: 82009xxxxx | D9: 3001.11.2.3.3020702 | F9: 288 | H9: 318 | I9: KS000001
A15: 注：1.请将调账内容录入在有色字体的栏内，格式见上表模板，请保留此表原格式，不要改动和删除任何栏格； 2.3001借方表示该项目号支出调增体现拟调入项目号信息，3001贷方表示该项目号支出调减体现拟调出项目号信息； 3.一个3001对应一对3501的过渡； 4.收支类型：8-318（非财政拨款结转/年初余额调整），6-344（非财政拨款结余/年初余额调整/系级），24011-201（事业支出/教育事业支出）； 5.资金来源：8-KS000001（科研事业收入），63040/63046-DZ000001（系级经费/支出回收），63099-DS000001（系级经费/事业收入），24011-GL000001（管理费)； 6.导入财务系统前请将账务无关行列全部删除再行导入。

Sheet 设备调账
A1: 序号 | B1: 摘要 | C1: 项目代码 | D1: 科目 | E1: 借方金额 | F1: 贷方金额 | G1: 车牌号 | H1: 收支类型 | I1: 资金来源 | J1: 适用支出年份 | K1: 调整项目大类
A2: 001 | B2: 调账1910#123张三报电脑 | C2: 82009xxxxx | D2: 1601.2.3100307 | E2: -188 | H2: 347 | J2: 2019年 | K2: 8调账至24011
A3: 002 | B3: 调账1910#123张三报电脑 | C3: 24011xxxxx | D3: 2401.1.3.3100301 | E3: 188 | H3: 201
A4: 003 | B4: 调账1910#123张三报电脑 | C4: 1601000102 | D4: 1601.2.3100307 | E4: 188 | H4: 902 | I4: GL000001
A5: 004 | B5: 调账1910#123张三报电脑 | D5: 3001.1.1 | F5: 188 | H5: 902 | I5: GL000001
A6: 005 | B6: 调账1910#123张三报打印机 | C6: 82009xxxxx | D6: 1601.2.3100307 | E6: -288 | H6: 347
A7: 006 | B7: 调账1910#123张三报打印机 | C7: 24011xxxxx | D7: 2401.1.3.3100301 | E7: 288 | H7: 201
A8: 007 | B8: 调账1910#123张三报打印机 | C8: 1601000102 | D8: 1601.2.3100307 | E8: 288 | H8: 902 | I8: GL000001
A9: 008 | B9: 调账1910#123张三报打印机 | D9: 3001.1.1 | F9: 288 | H9: 902 | I9: GL000001
A10: 001 | B10: 调账1810#123张三报电脑 | D10: 3501 | E10: 188 | J10: 2018年及之前
A11: 002 | B11: 调账1810#123张三报电脑 | D11: 3501 | F11: 188
A12: 003 | B12: 调账1810#123张三报电脑 | C12: 24011xxxxx | D12: 2401.1.3.3100307 | E12: 188 | H12: 201
A13: 004 | B13: 调账1810#123张三报电脑 | C13: 82009xxxxx | D13: 3001.11.2.3.3100307 | F13: 188 | H13: 318
A14: 005 | B14: 调账1810#123张三报打印机 | D14: 3501 | E14: 288
A15: 006 | B15: 调账1810#123张三报打印机 | D15: 3501 | F15: 288
A16: 007 | B16: 调账1810#123张三报打印机 | C16: 24011xxxxx | D16: 2401.1.3.3100307 | E16: 288 | H16: 201
A17: 008 | B17: 调账1810#123张三报打印机 | C17: 82009xxxxx | D17: 3001.11.2.3.3100307 | F17: 288 | H17: 318
A18: 001 | B18: 调账1910#123张三报打印机 | C18: 82009xxxxx | D18: 1601.2.3100307 | E18: -188 | H18: 347 | J18: 2019年 | K18: 8调账至8
A19: 002 | B19: 调账1910#123张三报打印机 | C19: 84101xxxxx | D19: 1601.2.3100307 | E19: 188 | H19: 347
A20: 003 | B20: 调账1910#123张三报打印机 | C20: 82009xxxxx | D20: 1601.2.3100307 | E20: -288 | H20: 347
A21: 004 | B21: 调账1910#123张三报打印机 | C21: 84101xxxxx | D21: 1601.2.3100307 | E21: 288 | H21: 347
A22: 001 | B22: 调账1710#123张三报电脑 | D22: 3501 | E22: 376 | J22: 2018年及之前
A23: 002 | B23: 调账1710#123张三报电脑 | D23: 3501 | F23: 376
A24: 003 | B24: 调账1710#123张三报电脑 | C24: 84101xxxxx | D24: 3001.11.2.3.3100307 | E24: 188 | H24: 318
A25: 004 | B25: 调账1710#123张三报电脑 | C25: 82009xxxxx | D25: 3001.11.2.3.3100307 | F25: 188 | H25: 318
A26: 005 | B26: 调账1710#123张三报打印机 | D26: 3501 | E26: 912
A27: 006 | B27: 调账1710#123张三报打印机 | D27: 3501 | F27: 912
A28: 007 | B28: 调账1710#123张三报打印机 | C28: 84101xxxxx | D28: 3001.11.2.3.3100307 | E28: 456 | H28: 318
A29: 008 | B29: 调账1710#123张三报打印机 | C29: 82009xxxxx | D29: 3001.11.2.3.3100307 | F29: 456 | H29: 318
A30: 001 | B30: 调账1910#123张三报打印机 | C30: 82009xxxxx | D30: 1601.2.3100307 | E30: -188 | H30: 347 | J30: 2019年 | K30: 8调账至6
A31: 002 | B31: 调账1910#123张三报打印机 | C31: 63046xxxxx | D31: 1601.2.3100307 | E31: 188 | H31: 347
A32: 003 | B32: 调账1910#123张三报打印机 | C32: 82009xxxxx | D32: 1601.2.3100307 | E32: -288 | H32: 347
A33: 004 | B33: 调账1910#123张三报打印机 | C33: 63046xxxxx | D33: 1601.2.3100307 | E33: 288 | H33: 347
A34: 001 | B34: 调账1710#123张三报电脑 | D34: 3501 | E34: 376 | J34: 2018年及之前
A35: 002 | B35: 调账1710#123张三报电脑 | D35: 3501 | F35: 376
A36: 003 | B36: 调账1710#123张三报电脑 | D36: 3001.11.1.2.2.3100307 | E36: 188 | I36: DZ000001
A37: 004 | B37: 调账1710#123张三报电脑 | C37: 82048xxxxx | D37: 3001.11.2.3.3100307 | F37: 188 | H37: 318
A38: 005 | B38: 调账1710#123张三报电脑 | D38: 9001 | F38: 188
A39: 006 | B39: 调账1710#123张三报电脑 | C39: 63046xxxxx | D39: 9002.2 | E39: 188
A40: 007 | B40: 调账1710#123张三报打印机 | D40: 3501 | E40: 912
...
