Workbook

Sheet 个人用-素质综合测评表
I1: 此三列自动映射、求和
A2: 基本信息 | B2: 姓名 | I2: =SUM(J8:J54) -> 0
B3: 学号
B4: 班级
B5: 专业
B6: 年级 | C6: 研二
H7: 请编辑本列（蓝色为需经相关小组评估） | I7: 单项总分 | J7: 总分 | K7: Y表示 需列项 | L7: 请编辑本列 列出细项 (1：…；2：…；3：...)
A8: 基本素质测评 (20分) | B8: 民主测评 (15分) | C8: 优秀12-15分，良好为8-11分，合格为4-7分，不合格为0-3分，依据互评平均分计算排名 | H8: (非自评) | J8: =I8+MIN(SUM(I9),5) -> 0
B9: 活动参与情况 (5分) | C9: 参与学院、团委、研究生会、班级组织的活动 | G9: 次数 | H9: 0 | I9: =H9*0.2 -> 0 | K9: =IF(H9>0,"Y", "")
A10: 学术学业测评 | B10: 学习成绩 (30分) | C10: 测评学年的绩点 (GPA) (上一学年出现两门必修课成绩不及格的，其学业学术测评不合格) | G10: =IF(C6<>"研二","(无须填入)","绩点") -> 绩点 | H10: 0 | I10: =IF(C6<>"研二",30,H10/4*30) -> 0 | J10: =I10+SUM(I11:I18)+MIN(12,SUM(I19:I22))+MIN(10,I23)+MIN(10,SUM(I24:I26)) -> 0
B11: 学术科研 (在测评学年以学生身份参加并且署名单位为北京大学的创新成果方可视为有效) | C11: 未设得分上限 | D11: 学术论文类 (对于非毕业班学生，只计入已发表的文章；对于毕业班学生，有已接收录用的正式证明即可) (导师一作、学生二作的算一作；共同一作论文按照一作标注人数平均分配一作得分) | E11: Nature/Science正刊 | F11: 第一作者/通信作者 | G11: 篇数 | H11: 0 | I11: =H11*15 -> 0 | K11: =IF(H11>0,"Y", "")
F12: 其他作者 | G12: 篇数 | H12: 0 | I12: =H12*6 -> 0 | K12: =IF(H12>0,"Y", "")
E13: Nature/Science子刊 | F13: 第一作者/通信作者 | G13: 篇数 | H13: 0 | I13: =H13*10 -> 0 | K13: =IF(H13>0,"Y", "")
F14: 其他作者 | G14: 篇数 | H14: 0 | I14: =H14*4 -> 0 | K14: =IF(H14>0,"Y", "")
E15: AIRankings收录期刊/会议 (不含Workshop)【最佳研究论文奖/提名奖】 https://airankings.org/, 总权重例子: 1篇AAAI(1.0)+2篇PR(0.75)=2.5 | F15: 第一作者/通信作者 | G15: 总权重 | H15: 0 | I15: =H15*10 -> 0 | K15: =IF(H15>0,"Y", "")
F16: 其他作者 | G16: 总权重 | H16: 0 | I16: =H16*4 -> 0 | K16: =IF(H16>0,"Y", "")
E17: 其它期刊/会议【最佳研究论文奖】(由测评小组进行综合认定) | F17: 第一作者/通信作者 | H17: 0 | I17: =H17 -> 0 | K17: =IF(H17>0,"Y", "")
F18: 其他作者 | H18: 0 | I18: =H18 -> 0 | K18: =IF(H18>0,"Y", "")
C19: 最高12分 | E19: AIRankings收录期刊/会议 (不含Workshop)【一般收录】 | F19: 第一作者/通信作者 | G19: 总权重 | H19: 0 | I19: =H19*4 -> 0 | K19: =IF(H19>0,"Y", "")
F20: 其他作者 | G20: 总权重 | H20: 0 | I20: =H20*2 -> 0 | K20: =IF(H20>0,"Y", "")
E21: 其它期刊/会议【一般收录】(由测评小组进行综合认定) | F21: 第一作者/通信作者 | H21: 0 | I21: =H21 -> 0 | K21: =IF(H21>0,"Y", "")
F22: 其他作者 | H22: 0 | I22: =H22 -> 0 | K22: =IF(H22>0,"Y", "")
C23: 最高10分 | D23: 系统研发类 | E23: 由测评小组根据申请人成果汇报，以及导师推荐意见进行综合认定 | H23: 0 | I23: =H23 -> 0
C24: 最高10分 | D24: 学术赛事类 (同一类型不同级别赛事按最高分一项计算，提供奖金的赛事不认定加分) | E24: 北京大学“挑战杯”五四青年科学奖竞赛 | H24: 无 | I24: =VLOOKUP('个人用-素质综合测评表'!H24,规则!B4:C16,2,FALSE) -> 0
E25: 北京大学“挑战杯”跨学科学生课外学术科技作品竞赛或者特别贡献奖 | H25: 无 | I25: =VLOOKUP('个人用-素质综合测评表'!H25,规则!F4:G17,2,FALSE) -> 0
E26: 其他 (由各班统计并提交班级学生素质综合测评小组统一进行认定， 认定符合要求者，获得一等奖加3分、获得二等奖加2分、获得三等奖加1分) | H26: 0 | I26: =H26 -> 0
A27: 实践能力测评 (加分) | B27: 社会工作 (具体分值由学院测评领导小组根据工作表现具体确定；担任多项社会工作职务的学生，按最高一项计算，不累计加分) | C27: 仅计最高一项 | D27: 智能学院 | E27: 担任智能学院团委副书记，智能学院研究生会主席 | H27: 无 | I27: =IF(H27="无",0,"请填入本格") -> 0 | J27: =MAX(I27:I41)+MAX(I42:I43)+SUM(I44:I46)+MIN(10,SUM(I47:I54)) -> 0 | K27: =IF(I27>0,"Y", "")
E28: 担任智能学院研究生会副主席 | H28: 无 | I28: =IF(H28="无",0,"请填入本格") -> 0 | K28: =IF(I28>0,"Y", "")
E29: 担任智能学院学生党建中心主任，青年志愿者协会秘书长，融媒体中心主任，团委各部门部长， 学生会、研究生会各工作组组长 | H29: 无 | I29: =IF(H29="无",0,"请填入本格") -> 0 | K29: =IF(I29>0,"Y", "")
E30: 担任智能学院学生党建中心副主任，青年志愿者协会副会长，融媒体中心副主任（部员），各部门副部长， 学生会、研究生会各工作组副组长 | H30: 无 | I30: =IF(H30="无",0,"请填入本格") -> 0 | K30: =IF(I30>0,"Y", "")
E31: 担任智能学院学生党支部书记 | H31: 无 | I31: =IF(H31="无",0,"请填入本格") -> 0 | K31: =IF(I31>0,"Y", "")
E32: 担任智能学院学生团支部书记，班长 | H32: 无 | I32: =IF(H32="无",0,"请填入本格") -> 0 | K32: =IF(I32>0,"Y", "")
E33: 担任智能学院学生党支部委员、团支部委员、班级委员 | H33: 无 | I33: =IF(H33="无",0,"请填入本格") -> 0 | K33: =IF(I33>0,"Y", "")
E34: 担任智能学院各运动队、竞赛队队长 | H34: 无 | I34: =IF(H34="无",0,"请填入本格") -> 0 | K34: =IF(I34>0,"Y", "")
D35: 北京大学 | E35: 担任各运动队、竞赛队副队长、财务专员、宣传专员 | H35: 无 | I35: =IF(H35="无",0,"请填入本格") -> 0 | K35: =IF(I35>0,"Y", "")
E36: 担任北京大学学生社团会长、理事长、团支部书记 | H36: 无 | I36: {=_xlfn.IFS(H36="无",0,H36="满一年(1.5分)", 1.5, H36="满半年(0.75分)", 0.75)} -> 0 | K36: =IF(I36>0,"Y", "")
E37: 担任北京大学学生社团副会长、副理事长 | H37: 无 | I37: {=_xlfn.IFS(H37="无",0,H37="满一年(1分)", 1, H37="满半年(0.5分)", 0.5)} -> 0 | K37: =IF(I37>0,"Y", "")
E38: 担任北京大学团委学生副书记，北京大学学生会、研究生会主席 | H38: 无 | I38: {=_xlfn.IFS(H38="无",0,H38="满一年(5分)", 5)} -> 0 | K38: =IF(I38>0,"Y", "")
E39: 担任校学生会、研究生会副主席 | H39: 无 | I39: {=_xlfn.IFS(H39="无",0,H39="满一年(4分)", 4)} -> 0 | K39: =IF(I39>0,"Y", "")
E40: 担任北京大学团委各部门（科室）副部长/主任，校学生会、研究生会各部部长 | H40: 无 | I40: {=_xlfn.IFS(H40="无",0,H40="满一年(3分)", 3)} -> 0 | K40: =IF(I40>0,"Y", "")
...

Sheet 规则
A4: 北京大学“挑战杯”五四青年科学奖竞赛 | B4: 无 | C4: 0 | E4: 北京大学“挑战杯”跨学科学生课外学术科技作品竞赛或者特别贡献奖 | F4: 无 | G4: 0
B5: 特等奖-第一作者 | C5: 5 | F5: 特等奖-第一作者 | G5: 3
B6: 特等奖-第二作者 | C6: 4.5 | F6: 特等奖-第二作者 | G6: 2.5
B7: 特等奖-第三作者 | C7: 4 | F7: 特等奖-第三作者 | G7: 2
B8: 一等奖-第一作者 | C8: 4 | F8: 一等奖-第一作者 | G8: 2.5
B9: 一等奖-第二作者 | C9: 3.5 | F9: 一等奖-第二作者 | G9: 2
B10: 一等奖-第三作者 | C10: 3 | F10: 一等奖-第三作者 | G10: 1.5
B11: 二等奖-第一作者 | C11: 3 | F11: 二等奖-第一作者 | G11: 2
B12: 二等奖-第二作者 | C12: 2.5 | F12: 二等奖-第二作者 | G12: 1.5
B13: 二等奖-第三作者 | C13: 2 | F13: 二等奖-第三作者 | G13: 1
B14: 三等奖-第一作者 | C14: 2 | F14: 三等奖-第一作者 | G14: 1.5
B15: 三等奖-第二作者 | C15: 1.5 | F15: 三等奖-第二作者 | G15: 1
B16: 三等奖-第三作者 | C16: 1 | F16: 三等奖-第三作者 | G16: 0.5
F17: 鼓励奖 | G17: 0.5
A20: 北京大学新生杯、北大杯、硕博杯、校运动会——个人赛事项目 | B20: 无 | C20: 0 | E20: 北京大学新生杯、北大杯、硕博杯、校运动会——集体赛事项目 | F20: 无 | G20: 0 | I20: 北京大学北大之锋、北京大学校园十佳歌手大赛、北大剧星、演讲十佳等校内赛事 | J20: 无 | K20: 0
B21: 第一名 | C21: 2 | F21: 第一名 | G21: 2 | J21: 第一名 | K21: 2
B22: 第二名 | C22: 1.7 | F22: 第二名 | G22: 1.5 | J22: 第二名 | K22: 1.5
B23: 第三名 | C23: 1.4 | F23: 第三名 | G23: 1 | J23: 第三名 | K23: 1
B24: 第四名 | C24: 1.1 | F24: 第四-八名 | G24: 0.5 | J24: 参赛未获得名次 | K24: 0.4
B25: 第五-八名 | C25: 0.8
B26: 参赛未获得名次 | C26: 0.4
